BEGIN:VCALENDAR
VERSION:2.0
PRODID:-//https://networknature.eu//NONSGML iCalcreator 2.41.92//
CALSCALE:GREGORIAN
METHOD:PUBLISH
UID:31616137-6433-4936-b237-656165653566
X-WR-RELCALID:node-18906-field_event_date
X-WR-TIMEZONE:Europe/Brussels
X-WR-CALNAME:Naturbasierte Lösungen: Chancen für resiliente und zukunftsfäh
 ige Unternehmen
BEGIN:VTIMEZONE
TZID:Europe/Brussels
TZUNTIL:20280326T010000Z
BEGIN:STANDARD
TZNAME:CET
DTSTART:20251026T030000
TZOFFSETFROM:+0200
TZOFFSETTO:+0100
RDATE:20261025T030000
RDATE:20271031T030000
END:STANDARD
BEGIN:DAYLIGHT
TZNAME:CEST
DTSTART:20260329T020000
TZOFFSETFROM:+0100
TZOFFSETTO:+0200
RDATE:20270328T020000
END:DAYLIGHT
END:VTIMEZONE
BEGIN:VEVENT
UID:37666262-3332-4564-a263-363133393461
DTSTAMP:20260423T063322Z
CATEGORIES:Naturbasierte Lösungen: Chancen für resiliente und zukunftsfähig
 e Unternehmen
CLASS:PUBLIC
CREATED:20260421T091008Z
DESCRIPTION:Naturbasierte Lösungen als Wettbewerbsvorteil: Wie Unternehmen 
 resilenter\, nachhaltiger und zukunftsfähig werden können.
DTSTART;TZID=Europe/Brussels:20260520T120000
DTEND;TZID=Europe/Brussels:20260520T130000
LAST-MODIFIED:20260421T092210Z
SUMMARY:Naturbasierte Lösungen: Chancen für resiliente und zukunftsfähige U
 nternehmen
TRANSP:OPAQUE
END:VEVENT
END:VCALENDAR
