BEGIN:VCALENDAR
VERSION:2.0
PRODID:-//https://networknature.eu//NONSGML iCalcreator 2.41.92//
CALSCALE:GREGORIAN
METHOD:PUBLISH
UID:62313134-6437-4834-b238-363431353532
X-WR-RELCALID:node-18903-field_event_date
X-WR-TIMEZONE:Europe/Brussels
X-WR-CALNAME:Legal Architecture for Scaling Investments in Nature-based Sol
 utions
BEGIN:VTIMEZONE
TZID:Europe/Brussels
TZUNTIL:20271031T010000Z
BEGIN:STANDARD
TZNAME:CET
DTSTART:20251026T030000
TZOFFSETFROM:+0200
TZOFFSETTO:+0100
RDATE:20261025T030000
END:STANDARD
BEGIN:DAYLIGHT
TZNAME:CEST
DTSTART:20260329T020000
TZOFFSETFROM:+0100
TZOFFSETTO:+0200
RDATE:20270328T020000
END:DAYLIGHT
END:VTIMEZONE
BEGIN:VEVENT
UID:64653034-3065-4933-a365-356561656135
DTSTAMP:20260424T082646Z
CATEGORIES:Legal Architecture for Scaling Investments in Nature-based Solut
 ions
CLASS:PUBLIC
CREATED:20260420T093105Z
DESCRIPTION:Join to explore the significance of a structured legal due dili
 gence framework within the spirit of key climate change and biodiversity t
 reaties!
DTSTART;TZID=Europe/Brussels:20260423T140000
DTEND;TZID=Europe/Brussels:20260423T150000
LAST-MODIFIED:20260420T093446Z
SUMMARY:Legal Architecture for Scaling Investments in Nature-based Solution
 s
TRANSP:OPAQUE
END:VEVENT
END:VCALENDAR
