BEGIN:VCALENDAR
VERSION:2.0
PRODID:-//https://networknature.eu//NONSGML iCalcreator 2.41.92//
CALSCALE:GREGORIAN
METHOD:PUBLISH
UID:61396534-3339-4464-a562-373433303765
X-WR-RELCALID:node-18816-field_event_date
X-WR-TIMEZONE:Europe/Brussels
X-WR-CALNAME:Resilience World Nexus (RWN) Summit 2026
BEGIN:VTIMEZONE
TZID:Europe/Brussels
TZUNTIL:20281029T010000Z
BEGIN:STANDARD
TZNAME:CET
DTSTART:20251026T030000
TZOFFSETFROM:+0200
TZOFFSETTO:+0100
RDATE:20261025T030000
RDATE:20271031T030000
END:STANDARD
BEGIN:DAYLIGHT
TZNAME:CEST
DTSTART:20260329T020000
TZOFFSETFROM:+0100
TZOFFSETTO:+0200
RDATE:20270328T020000
RDATE:20280326T020000
END:DAYLIGHT
END:VTIMEZONE
BEGIN:VEVENT
UID:33313635-6662-4362-b635-633937633465
DTSTAMP:20260423T191131Z
CATEGORIES:Resilience World Nexus (RWN) Summit 2026
CLASS:PUBLIC
CREATED:20260318T140514Z
DESCRIPTION:RWN Summit (6–7 Oct\, London) brings top leaders together to tu
 rn disruption into advantage and drive resilience\, performance & long-ter
 m growth.
DTSTART;TZID=Europe/Brussels:20261006T010000
DTEND;TZID=Europe/Brussels:20261008T005900
LAST-MODIFIED:20260318T141014Z
SUMMARY:Resilience World Nexus (RWN) Summit 2026
TRANSP:OPAQUE
END:VEVENT
END:VCALENDAR
